BEGIN:VCALENDAR
VERSION:2.0
PRODID:-//MDBI
CALSCALE:GREGORIAN
METHOD:PUBLISH
X-WR-CALNAME:MDBI
X-ORIGINAL-URL:https://mdbi.fabiz.ase.ro/event/sales-strategies/
X-WR-CALDESC:Sales Strategies
BEGIN:VEVENT
DTSTART:20201012T173000
DTEND:20201022T213000
SUMMARY:Sales Strategies
DESCRIPTION:
LOCATION:
END:VEVENT
END:VCALENDAR
