BEGIN:VCALENDAR
VERSION:2.0
PRODID:-//MDBI
CALSCALE:GREGORIAN
METHOD:PUBLISH
X-WR-CALNAME:MDBI
X-ORIGINAL-URL:https://mdbi.fabiz.ase.ro/event/strategic-management/
X-WR-CALDESC:Strategic Management
BEGIN:VEVENT
DTSTART:20201102T173000
DTEND:20201113T213000
SUMMARY:Strategic Management
DESCRIPTION:
LOCATION:
END:VEVENT
END:VCALENDAR
