BEGIN:VCALENDAR
VERSION:2.0
PRODID:-//MDBI
CALSCALE:GREGORIAN
METHOD:PUBLISH
X-WR-CALNAME:MDBI
X-ORIGINAL-URL:https://mdbi.fabiz.ase.ro/event/it-systems-for-virtual-enterprises/
X-WR-CALDESC:IT Systems for Virtual Enterprises
BEGIN:VEVENT
DTSTART:20201202T173000
DTEND:20210217T213000
SUMMARY:IT Systems for Virtual Enterprises
DESCRIPTION:
LOCATION:
END:VEVENT
END:VCALENDAR
